BEGIN:VCALENDAR
VERSION:2.0
PRODID:-//wp-events-plugin.com//6.6.5//EN
BEGIN:VEVENT
UID:178@oldwhitsgolf.com
DTSTART:20260107T180000Z
DTEND:20260107T230000Z
DTSTAMP:20251216T175916Z
URL:https://oldwhitsgolf.com/fixtures/halford-hewitt-draw-5/
SUMMARY:Halford Hewitt draw
DESCRIPTION:Any member of the society is entitled to attend the draw\, whic
 h will determine our opponents in the first round of the competition\, to 
 be played in March/April. The event normally lasts about one hour\, consis
 ting first of the AGM of the Public Schools Golfing Society\, followed by 
 the draw. There is no formal event after the draw is complete but there is
  the opportunity for a drink or a meal if you attend\, or meet up\, with f
 riends.\n\nThe Halford Hewitt – Public Schools' golf tournament\n\n&nbsp
 \;
CATEGORIES:Social Events
LOCATION:East India Club\, 16 St James's Square\, London\, SW1Y 4LH\, Unite
 d Kingdom
GEO:51.507106;-0.136488
X-APPLE-STRUCTURED-LOCATION;VALUE=URI;X-ADDRESS=16 St James's Square\, Lond
 on\, SW1Y 4LH\, United Kingdom;X-APPLE-RADIUS=100;X-TITLE=East India Club:
 geo:51.507106,-0.136488
END:VEVENT
END:VCALENDAR