BEGIN:VCALENDAR
VERSION:2.0
PRODID:-//wp-events-plugin.com//6.6.5//EN
BEGIN:VEVENT
UID:191@oldwhitsgolf.com
DTSTART:20260824T103000Z
DTEND:20260824T173000Z
DTSTAMP:20260111T135605Z
URL:https://oldwhitsgolf.com/fixtures/hornsey-walker-cup-and-veterans-cup-
 meeting-2/
SUMMARY:Hornsey-Walker Cup and Veterans' Cup Meeting
DESCRIPTION:First tee 11am.\n\nHeld at the beautiful Betchworth Park\, anot
 her Harry Colt course well known to several of our members.\n\n18 hole sta
 bleford to contest the Hornsey-Walker Cup (current holder\, Martin Hayes) 
 and the Veterans' Cup (current holder\; Daniel Emkes). These two are  the
  society's oldest trophies\; the Hornsey-Walker Cup was first presented in
  1927. A scratch prize will also be awarded for the lowest gross score.\n\
 nThe Veterans' Cup can only be won by a member who is over 65 on the day o
 f the event\, and cannot be won by the member who wins the Hornsey-Walker 
 Cup.\n\nPrice is £87\, to include a two-course meal after golf\, and priz
 es.
CATEGORIES:Meeting
LOCATION:Betchworth Park Golf Club\, Reigate Road\, Dorking \, RH4 1NZ\, Un
 ited Kingdom
GEO:51.238406;-0.306491
X-APPLE-STRUCTURED-LOCATION;VALUE=URI;X-ADDRESS=Reigate Road\, Dorking \, R
 H4 1NZ\, United Kingdom;X-APPLE-RADIUS=100;X-TITLE=Betchworth Park Golf Cl
 ub:geo:51.238406,-0.306491
END:VEVENT
END:VCALENDAR