BEGIN:VCALENDAR
VERSION:2.0
PRODID:-//wp-events-plugin.com//6.6.5//EN
BEGIN:VEVENT
UID:180@oldwhitsgolf.com
DTSTART;VALUE=DATE:20260408
DTEND;VALUE=DATE:20260410
DTSTAMP:20260123T103534Z
URL:https://oldwhitsgolf.com/fixtures/peter-kenyon-bowl-6/
SUMMARY:Peter Kenyon Bowl
DESCRIPTION:The Peter Kenyon Bowl is a competition played in the week of th
 e Halford Hewitt competition. It is a foursomes competition open to member
 s of any school society represented in the Hewitt\, and is to be played th
 is year at Prince's GC\, Sandwich\, either on Wednesday 8th April or Thurs
 day 9th April (ie before the Hewitt Plate competition starts at Prince's o
 n the Friday).\n\nThe Thompson Tankards foursomes event (open only to OWGS
  members) will be run as part of the Peter Kenyon Bowl\, but only on Thurs
 day 9th April (tee times will be reserved and made available to OWs). OWGS
  members playing on Wednesday 8th April will not qualify to win the Thomps
 on Tankards. Those entering the Thompson Tankards should pay their entry f
 ee to OWGS (see Thompson Tankards event).\n\nThose planning to play on the
  8th will have to book their own tee times with the Prince's Pro Shop and 
 pay them separately. You cannot enter using this website.\n\nSee https://w
 ww.halfordhewitt.org/peter-kenyon-bowl-2022/ \n\nAny member of the OWGS i
 s entitled to enter. There is a charge of £55pp (£110 per pair). You may
  either find your own partner (who must also be a member of the society) o
 r if you write to the Secretary (Peter Gale)\, he may know of other member
 s in search of a partner. Handicaps are allowed\; these are calculated as 
 50% of the pair's combined course handicap\, but with a maximum allowance 
 of 18. So a 12 handicapper\, playing with a 26 handicapper\, would be allo
 wed 18 shots\, not 19.\n\n&nbsp\;\n\n&nbsp\;\n\n&nbsp\;\n\n&nbsp\;
CATEGORIES:School team competitions
LOCATION:Prince's Golf Club\, Princes Drive\, Sandwich \, CT13 9QB\, United
  Kingdom
GEO:51.295632;1.370846
X-APPLE-STRUCTURED-LOCATION;VALUE=URI;X-ADDRESS=Princes Drive\, Sandwich \,
  CT13 9QB\, United Kingdom;X-APPLE-RADIUS=100;X-TITLE=Prince's Golf Club:g
 eo:51.295632,1.370846
END:VEVENT
END:VCALENDAR